BEGIN:VCALENDAR
VERSION:2.0
PRODID:-//Κάθε μέρα γονείς - ECPv6.2.4//NONSGML v1.0//EN
CALSCALE:GREGORIAN
METHOD:PUBLISH
X-ORIGINAL-URL:https://www.kathemeragoneis.com
X-WR-CALDESC:Κάθε μέρα γονείς - Εκδηλώσεις
REFRESH-INTERVAL;VALUE=DURATION:PT1H
X-Robots-Tag:noindex
X-PUBLISHED-TTL:PT1H
BEGIN:VTIMEZONE
TZID:Europe/Moscow
BEGIN:STANDARD
TZOFFSETFROM:+0300
TZOFFSETTO:+0300
TZNAME:MSK
DTSTART:20170101T000000
END:STANDARD
END:VTIMEZONE
BEGIN:VEVENT
DTSTART;TZID=Europe/Moscow:20171007T170000
DTEND;TZID=Europe/Moscow:20171007T170000
DTSTAMP:20260419T205428
CREATED:20170912T070900Z
LAST-MODIFIED:20180825T164108Z
UID:9960-1507395600-1507395600@www.kathemeragoneis.com
SUMMARY:1o Σχολικό Street Festival Τέχνης και Αποδοχής
DESCRIPTION:Το Σχολικό Street Festival Τέχνης και Αποδοχής είναι μια δράση που είχε ξεκινήσει τα προηγούμενα χρόνια ως καινοτόμο πολιτιστικό πρόγραμμα σε διάφορα σχολεία της Αττικής και της Περιφέρειας. \nΤο Φεστιβάλ\, έχει τους παρακάτω στόχους:\n-Να δημιουργήσει ένα πλαίσιο το οποίο θα δώσει την ευκαιρία στην εκπαιδευτική κοινότητα (τους μαθητές\, τους εκπαιδευτικούς και τους γονείς)\, να βγουν “έξω” από τα όρια του σχολικού κτιρίου και να αλληλεπιδράσουν με την Κοινότητα και η Κοινότητα μαζί τους.\n-Να αποκτήσουν ορατότητα όλες εκείνες οι καλές πρακτικές που συμβαίνουν σήμερα στο ελληνικό Δημόσιο Σχολείο\, γύρω από το θέμα των ανθρωπίνων δικαιωμάτων και κατά των διακρίσεων. Φυσικά είναι ευπρόσδεκτα και τα ιδιωτικά σχολεία σε αυτήν τη δράση\, αλλά τονίζουμε το Δημόσιο\, γιατί αυτό φέρει ένα αρνητικό στερεότυπο που δεν ανταποκρίνεται στην πραγματική εικόνα.\n-Να γεφυρώσει πολιτισμικές διαφορές και να φέρει κοντά όλους τους λαούς και τις κοινότητες που ζουν\, εργάζονται και προσφέρουν σε αυτήν την χώρα.\n-Να συστήσει εκείνες τις ομάδες (οργανώσεις\, συλλογικότητες\, καλλιτεχνικές ομάδες\, κ.α) που ήδη βρίσκονται κοντά στο ελληνικό σχολείο και αλληλεπιδρούν με τα μέλη του γύρω από το θέμα των Ανθρωπίνων δικαιωμάτων και κατά των διακρίσεων\, ή προσφέρουν υπηρεσίες σε χώρους όπου υπάρχουν ευπαθείς ομάδες (πχ κεντρα φιλοξενίας προσφύγων).\n-Να μας παρουσιάσει είδη Τεχνης με τα οποία δεν είναι εξοικειωμένος ο περισσότερος κόσμος.\n-Να διασκεδάσουμε και να κάνουμε καινούριους φίλους. \nΤο Σχολικό Street Festival Τέχνης και Αποδοχής συντονίζεται από την συλλογικότητα εκπαιδευτικών και καλλιτεχνών: ΔΙΚΤΥΟΤΕΧΝΗΣ και ΔΡΑΣΗΣ (οι άνθρωποι με τα μπαλόνια).\nΤην γενική επιμέλεια έχει η Ελένη Καραγιάννη \, εικαστικός και Συντονίστρια Εκπαίδευσης προσφύγων Σχιστού.\nΓίνεται σε συνδιοργάνωση με τον ΔΉΜΟ ΑΘΗΝΑΊΩΝ και συγκεκριμένα με την αντιδήμαρχο Για το Παιδί του Δήμου Αθηναίων\, κ. Μαρία Ηλιοπούλου και τον αντιδήμαρχo Μεταναστών\, Προσφύγων και Δημοτικής Αποκέντρωσης\, κ. Ελευθέριου Παπαγιαννάκη.\nΗ δράση υποστηρίζεται από τον Συνήγορο του Πολίτη / Συνήγορο του Παιδιού και την Ύπατη Αρμοστεία του ΟΗΕ για τους πρόσφυγες.
URL:https://www.kathemeragoneis.com/event/1o-scholiko-street-festival-technis-kai-apodochis/
LOCATION:Πεζόδρομος Ερμού\, Αθήνα\, 105 63
CATEGORIES:Φεστιβάλ
END:VEVENT
BEGIN:VEVENT
DTSTART;TZID=Europe/Moscow:20170924T113000
DTEND;TZID=Europe/Moscow:20170924T190000
DTSTAMP:20260419T205428
CREATED:20170911T191700Z
LAST-MODIFIED:20170911T191915Z
UID:9944-1506252600-1506279600@www.kathemeragoneis.com
SUMMARY:2o Bobos Arts Festival: Το παιδικό πολιτιστικό φεστιβάλ της πόλης επιστρέφει!
DESCRIPTION:Την Κυριακή 24 Σεπτεμβρίου το The Hub Events παρουσιάζει το δεύτερο παιδικό πολιτιστικό φεστιβάλ Bobos Arts Festival\, το οποίο επιστρέφει ανανεωμένο με ένα πλούσιο πρόγραμμα\, στον πολυχώρο Μεταλλουργείο στο κέντρο της Αθήνας. \nΤο Bobos Arts Festival είναι μια μέρα αφιερωμένη στην τέχνη και τον πολιτισμό για τα παιδιά. Μουσική\, θέατρο\, εικαστικές δράσεις και δημιουργικό παιχνίδι σε μια ιδιαίτερη φεστιβαλική εμπειρία για όλη την οικογένεια. \nΣτην open air σκηνή του Bobos Arts Festival θα ανέβουν: \n\nΟ μοναδικός Χρήστος Θηβαίος με τα «Παιδικά Αγαπημένα»\, μια ξεχωριστή συναυλία με επιλογές τραγουδιών από τους πιο αγαπημένους παιδικούς δίσκους των τελευταίων χρόνων («Τεμπέλης δράκος»\, «Τραγουδάκια γάλακτος»\, «Τα μυστικά του κήπου» κ.ά.).\nΗ βραβευμένη θεατρική ομάδα Κοπέρνικος με «Τα μεγάλα ψέματα του μικρού Ερμή»\, μια παράσταση για τις ανθρώπινες σχέσεις\, τη συνέπεια των πράξεών μας\, αλλά και τις συνθήκες που επιτρέπουν στο ψέμα να ανθίσει. Από τους δύο φορές βραβευμένους με το Α’ Κρατικό Βραβείο Συγγραφής Παιδικού Θεατρικού Έργου\, Άγγελο Αγγέλου και Έμη Σίνη.\nΤο φωνητικό σύνολο 8tetto με την διαδραστική χιουμοριστική παράσταση «Τι τρέχει με την όπερα;»\, η οποία θα φέρει με τον πιο ευχάριστο τρόπο τα παιδιά σε επαφή με τον μαγικό –αλλά και ενίοτε παρεξηγημένο– κόσμο της όπερας.\nΤο εκπαιδευτικό πρόγραμμα World Voice του British Council\, στο οποίο τα παιδιά θα έχουν την ευκαιρία να γνωρίσουν τη μουσική\, παίζοντας και συμμετέχοντας ενεργά.\nΗ πρωτότυπη ζογκερική παράσταση «Το Μαγικότσιρκο» της ομάδας Kokoika.\nΗ βραβευμένη συγγραφέας παιδικών βιβλίων Άλκηστη Χαλικιά με το παραμύθι «Το κουτί του Σιλάν» (εκδ. Ίκαρος).\n\n  \nΕικαστικές δράσεις\, δημιουργικό παιχνίδι και πολλές ακόμα εκπλήξεις σε μια μεγάλη γιορτή για το παιδί\, τον πολιτισμό και τις τέχνες. \nΤο φεστιβάλ απευθύνεται σε παιδιά από 2 έως 12 ετών και τους γονείς/συνοδούς τους. \nΓια το  αναλυτικό πρόγραμμα του φεστιβάλ\, επισκεφθείτε το: www.bobosartsfestival.com \nΠληροφορίες: \nΚυριακή 24 Σεπτεμβρίου\, 11.30πμ – 7.00μμ \nΜεταλλουργείο\, Πειραιώς 127\, Αθήνα \nΣτάση μετρό: Κεραμικός \nΤηλέφωνο: 210 3411009\, 698 6008523 \nΓενική είσοδος: 15€ \nΠροπώληση: 12€ \nEarly bird (έως 15/9): 10€ \nΠροπώληση εισιτηρίων στο Viva.gr και στα συνεργαζόμενα σημεία πώλησης \n(https://www.viva.gr/tickets/festival/metallourgio-gkazi/2o-bobos-arts-festival/ )
URL:https://www.kathemeragoneis.com/event/2-bobos-arts-festival/
LOCATION:Πολυχώρος Μεταλλουργείο\, Πειραιώς 127\, Αθήνα
CATEGORIES:Φεστιβάλ
END:VEVENT
END:VCALENDAR