BEGIN:VCALENDAR
VERSION:2.0
PRODID:-//Κάθε μέρα γονείς - ECPv6.2.4//NONSGML v1.0//EN
CALSCALE:GREGORIAN
METHOD:PUBLISH
X-ORIGINAL-URL:https://www.kathemeragoneis.com
X-WR-CALDESC:Κάθε μέρα γονείς - Εκδηλώσεις
REFRESH-INTERVAL;VALUE=DURATION:PT1H
X-Robots-Tag:noindex
X-PUBLISHED-TTL:PT1H
BEGIN:VTIMEZONE
TZID:Europe/Moscow
BEGIN:STANDARD
TZOFFSETFROM:+0300
TZOFFSETTO:+0300
TZNAME:MSK
DTSTART:20170101T000000
END:STANDARD
END:VTIMEZONE
BEGIN:VEVENT
DTSTART;TZID=Europe/Moscow:20171001T110000
DTEND;TZID=Europe/Moscow:20171001T140000
DTSTAMP:20260419T170846
CREATED:20170920T071103Z
LAST-MODIFIED:20180825T164108Z
UID:10079-1506855600-1506866400@www.kathemeragoneis.com
SUMMARY:Μικροί και μεγάλοι στο Μουσείο Κυκλαδικής Τέχνης
DESCRIPTION:Λίγο πριν ξεκινήσουν τα προγράμματα του Σαββατοκύριακου για την νέα χρονιά\, το Μουσείο Κυκλαδικής Τέχνης υποδέχεται με ελεύθερη είσοδο μικρούς και μεγάλους! Την 1η Οκτωβρίου\, ό\,τι ώρα θέλετε\, από τις 11.00 μέχρι τις 14.00\, τα παιδιά θα μπορούν να πάρουν μια πρώτη γεύση από τα εκπαιδευτικά προγράμματα της φετινής χρονιάς. Τα παιδιά 2-5 ετών θα φτιάξουν παραμυθένια παζλ με τα βότσαλα ενώ τα παιδιά 5-10 ετών θα γίνουν «Μουσειοταξιδευτές»\, φτιάχνοντας φανταστικά μουσεία με χαρτιά\, χρώματα και διάφορα υλικά.  \nΤα παιδιά θα παίξουν και θα πειραματιστούν με διάφορες τεχνικές και θα φτιάξουν ένα μικρό έργο που θα πάρουν μαζί τους. Παράλληλα οι γονείς θα ενημερωθούν για το νέο πρόγραμμα της χρονιάς\, θα προμηθευτούν τα ενημερωτικά έντυπα για κάθε ηλικία και θα γνωρίσουν τους υπεύθυνους των εργαστηρίων.  \nΓια γονείς και παιδιά από 2 ετών και άνω \nΑπό τις 11.00 μέχρι τις 14.00 \nΜουσείο Κυκλαδικής Τέχνης \nΝεοφύτου Δούκα 4 και Βασιλίσσης Σοφίας & Ηροδότου 1 \nΔεν απαιτείται κράτηση θέσης\, η ροή του προγράμματος θα είναι συνεχόμενη \nΕίσοδος ελεύθερη \nΠληροφορίες καθημερινά 10.00-13.00 στο 210.7294.220
URL:https://www.kathemeragoneis.com/event/mikroi-kai-megaloi-sto-moyseio-kykladikis-technis/
LOCATION:Μουσείο Κυκλαδικής Τέχνης\, Νεοφύτου Δούκα 4\, Αθήνα
CATEGORIES:Εκπαιδευτικό Πρόγραμμα
END:VEVENT
BEGIN:VEVENT
DTSTART;TZID=Europe/Moscow:20170924T100000
DTEND;TZID=Europe/Moscow:20170924T113000
DTSTAMP:20260419T170846
CREATED:20170920T071812Z
LAST-MODIFIED:20170920T071812Z
UID:10083-1506247200-1506252600@www.kathemeragoneis.com
SUMMARY:"Ιστορίες Πόλεων" στο Βυζαντινό Μουσείο
DESCRIPTION:Τι κοινό θα μπορούσαν να έχουν μεταξύ τους πήλινα πιθάρια\, μια παλαιοχριστιανική βασιλική\, ένας «δίδυμος» τάφος\, ένας θησαυρός από την Μυτιλήνη\, φορητές ξύλινες εικόνες και πολλά άλλα εκθέματα του μουσείου; Ελάτε να γνωρίσετε μαζί μας πτυχές από τη ζωή στις πόλεις των περασμένων αιώνων…\n\nΤο πρόγραμμα πραγματοποιείται στο πλαίσιο των δράσεων των Ευρωπαϊκών Ημερών Πολιτιστικής Κληρονομιάς με θέμα: «ΠΟΛ(ε)ΙΣ».\n\nΓια μικρούς (από 10 ετών) και μεγάλους.\n\n\nΟ αριθμός των παιδιών που μπορούν να συμμετάσχουν στο κάθε πρόγραμμα είναι περιορισμένος  γι’ αυτό είναι απαραίτητη η δήλωση συμμετοχής στο τηλέφωνο 213 213 9507 (από Δευτέρα έως Παρασκευή\, ώρες 09:00 έως 15:00).
URL:https://www.kathemeragoneis.com/event/istories-poleon-byzantino-mouseio/
LOCATION:Βυζαντινό και Χριστιανικό Μουσείο\, Βασ. Σοφίας 22\, Αθήνα
CATEGORIES:Εκπαιδευτικό Πρόγραμμα
END:VEVENT
END:VCALENDAR